BEGIN:VCALENDAR
VERSION:2.0
PRODID:-//Grayslake Historical Society - ECPv6.15.17.1//NONSGML v1.0//EN
CALSCALE:GREGORIAN
METHOD:PUBLISH
X-WR-CALNAME:Grayslake Historical Society
X-ORIGINAL-URL:https://grayslakehistory.org
X-WR-CALDESC:Events for Grayslake Historical Society
REFRESH-INTERVAL;VALUE=DURATION:PT1H
X-Robots-Tag:noindex
X-PUBLISHED-TTL:PT1H
BEGIN:VTIMEZONE
TZID:America/Chicago
BEGIN:DAYLIGHT
TZOFFSETFROM:-0600
TZOFFSETTO:-0500
TZNAME:CDT
DTSTART:20250309T080000
END:DAYLIGHT
BEGIN:STANDARD
TZOFFSETFROM:-0500
TZOFFSETTO:-0600
TZNAME:CST
DTSTART:20251102T070000
END:STANDARD
BEGIN:DAYLIGHT
TZOFFSETFROM:-0600
TZOFFSETTO:-0500
TZNAME:CDT
DTSTART:20260308T080000
END:DAYLIGHT
BEGIN:STANDARD
TZOFFSETFROM:-0500
TZOFFSETTO:-0600
TZNAME:CST
DTSTART:20261101T070000
END:STANDARD
BEGIN:DAYLIGHT
TZOFFSETFROM:-0600
TZOFFSETTO:-0500
TZNAME:CDT
DTSTART:20270314T080000
END:DAYLIGHT
BEGIN:STANDARD
TZOFFSETFROM:-0500
TZOFFSETTO:-0600
TZNAME:CST
DTSTART:20271107T070000
END:STANDARD
END:VTIMEZONE
BEGIN:VEVENT
DTSTART;TZID=America/Chicago:20260506T190000
DTEND;TZID=America/Chicago:20260506T200000
DTSTAMP:20260423T032559
CREATED:20260309T192654Z
LAST-MODIFIED:20260309T192654Z
UID:2805-1778094000-1778097600@grayslakehistory.org
SUMMARY:Grayslake Historical Society Board Meeting
DESCRIPTION:
URL:https://grayslakehistory.org/event/grayslake-historical-society-board-meeting-87/
LOCATION:Community Room of the Heritage Center\, 164 Hawley Street\, Grayslake\, 60030\, United States
ORGANIZER;CN="Grayslake Historical Society":MAILTO:charenehan@aol.com
END:VEVENT
BEGIN:VEVENT
DTSTART;TZID=America/Chicago:20260513T190000
DTEND;TZID=America/Chicago:20260513T200000
DTSTAMP:20260423T032559
CREATED:20260309T193901Z
LAST-MODIFIED:20260309T193901Z
UID:2825-1778698800-1778702400@grayslakehistory.org
SUMMARY:Society Program: "Grayslake Barbershops and Hair Salons"
DESCRIPTION:Jane Trump will take a nostalgic look back at notable barbershops and hair salons in Grayslake’s past. Heritage Center Community Room. Free. Light refreshments provided.
URL:https://grayslakehistory.org/event/society-program-grayslake-barbershops-and-hair-salons/
LOCATION:Community Room of the Heritage Center\, 164 Hawley Street\, Grayslake\, 60030\, United States
ORGANIZER;CN="Grayslake Historical Society":MAILTO:charenehan@aol.com
END:VEVENT
BEGIN:VEVENT
DTSTART;TZID=America/Chicago:20260603T190000
DTEND;TZID=America/Chicago:20260603T200000
DTSTAMP:20260423T032559
CREATED:20260309T192824Z
LAST-MODIFIED:20260309T192824Z
UID:2807-1780513200-1780516800@grayslakehistory.org
SUMMARY:Grayslake Historical Society Board Meeting
DESCRIPTION:
URL:https://grayslakehistory.org/event/grayslake-historical-society-board-meeting-88/
LOCATION:Community Room of the Heritage Center\, 164 Hawley Street\, Grayslake\, 60030\, United States
ORGANIZER;CN="Grayslake Historical Society":MAILTO:charenehan@aol.com
END:VEVENT
BEGIN:VEVENT
DTSTART;TZID=America/Chicago:20260701T190000
DTEND;TZID=America/Chicago:20260701T200000
DTSTAMP:20260423T032559
CREATED:20260309T192956Z
LAST-MODIFIED:20260309T192956Z
UID:2809-1782932400-1782936000@grayslakehistory.org
SUMMARY:Grayslake Historical Society Board Meeting
DESCRIPTION:
URL:https://grayslakehistory.org/event/grayslake-historical-society-board-meeting-89/
LOCATION:Community Room of the Heritage Center\, 164 Hawley Street\, Grayslake\, 60030\, United States
ORGANIZER;CN="Grayslake Historical Society":MAILTO:charenehan@aol.com
END:VEVENT
BEGIN:VEVENT
DTSTART;TZID=America/Chicago:20260805T190000
DTEND;TZID=America/Chicago:20260805T200000
DTSTAMP:20260423T032559
CREATED:20260309T193144Z
LAST-MODIFIED:20260309T193144Z
UID:2811-1785956400-1785960000@grayslakehistory.org
SUMMARY:Grayslake Historical Society Board Meeting
DESCRIPTION:
URL:https://grayslakehistory.org/event/grayslake-historical-society-board-meeting-90/
LOCATION:Community Room of the Heritage Center\, 164 Hawley Street\, Grayslake\, 60030\, United States
ORGANIZER;CN="Grayslake Historical Society":MAILTO:charenehan@aol.com
END:VEVENT
BEGIN:VEVENT
DTSTART;TZID=America/Chicago:20260902T190000
DTEND;TZID=America/Chicago:20260902T200000
DTSTAMP:20260423T032559
CREATED:20260309T193251Z
LAST-MODIFIED:20260309T193251Z
UID:2813-1788375600-1788379200@grayslakehistory.org
SUMMARY:Grayslake Historical Society Board Meeting
DESCRIPTION:
URL:https://grayslakehistory.org/event/grayslake-historical-society-board-meeting-91/
LOCATION:Community Room of the Heritage Center\, 164 Hawley Street\, Grayslake\, 60030\, United States
ORGANIZER;CN="Grayslake Historical Society":MAILTO:charenehan@aol.com
END:VEVENT
BEGIN:VEVENT
DTSTART;TZID=America/Chicago:20261007T190000
DTEND;TZID=America/Chicago:20261007T200000
DTSTAMP:20260423T032559
CREATED:20260309T193334Z
LAST-MODIFIED:20260309T193334Z
UID:2815-1791399600-1791403200@grayslakehistory.org
SUMMARY:Grayslake Historical Society Board Meeting
DESCRIPTION:
URL:https://grayslakehistory.org/event/grayslake-historical-society-board-meeting-92/
LOCATION:Community Room of the Heritage Center\, 164 Hawley Street\, Grayslake\, 60030\, United States
ORGANIZER;CN="Grayslake Historical Society":MAILTO:charenehan@aol.com
END:VEVENT
BEGIN:VEVENT
DTSTART;TZID=America/Chicago:20261104T190000
DTEND;TZID=America/Chicago:20261104T200000
DTSTAMP:20260423T032559
CREATED:20260309T193417Z
LAST-MODIFIED:20260309T193417Z
UID:2817-1793818800-1793822400@grayslakehistory.org
SUMMARY:Grayslake Historical Society Board Meeting
DESCRIPTION:
URL:https://grayslakehistory.org/event/grayslake-historical-society-board-meeting-93/
LOCATION:Community Room of the Heritage Center\, 164 Hawley Street\, Grayslake\, 60030\, United States
ORGANIZER;CN="Grayslake Historical Society":MAILTO:charenehan@aol.com
END:VEVENT
BEGIN:VEVENT
DTSTART;TZID=America/Chicago:20261202T190000
DTEND;TZID=America/Chicago:20261202T200000
DTSTAMP:20260423T032559
CREATED:20260309T193459Z
LAST-MODIFIED:20260309T193459Z
UID:2819-1796238000-1796241600@grayslakehistory.org
SUMMARY:Grayslake Historical Society Board Meeting
DESCRIPTION:
URL:https://grayslakehistory.org/event/grayslake-historical-society-board-meeting-94/
LOCATION:Community Room of the Heritage Center\, 164 Hawley Street\, Grayslake\, 60030\, United States
ORGANIZER;CN="Grayslake Historical Society":MAILTO:charenehan@aol.com
END:VEVENT
END:VCALENDAR